BEGIN:VCALENDAR
VERSION:2.0
PRODID:-//Youth Empowerment Program - ECPv6.15.20//NONSGML v1.0//EN
CALSCALE:GREGORIAN
METHOD:PUBLISH
X-ORIGINAL-URL:https://www.yepyepyep.org
X-WR-CALDESC:Events for Youth Empowerment Program
REFRESH-INTERVAL;VALUE=DURATION:PT1H
X-Robots-Tag:noindex
X-PUBLISHED-TTL:PT1H
BEGIN:VTIMEZONE
TZID:America/Chicago
BEGIN:DAYLIGHT
TZOFFSETFROM:-0600
TZOFFSETTO:-0500
TZNAME:CDT
DTSTART:20190310T080000
END:DAYLIGHT
BEGIN:STANDARD
TZOFFSETFROM:-0500
TZOFFSETTO:-0600
TZNAME:CST
DTSTART:20191103T070000
END:STANDARD
BEGIN:DAYLIGHT
TZOFFSETFROM:-0600
TZOFFSETTO:-0500
TZNAME:CDT
DTSTART:20200308T080000
END:DAYLIGHT
BEGIN:STANDARD
TZOFFSETFROM:-0500
TZOFFSETTO:-0600
TZNAME:CST
DTSTART:20201101T070000
END:STANDARD
BEGIN:DAYLIGHT
TZOFFSETFROM:-0600
TZOFFSETTO:-0500
TZNAME:CDT
DTSTART:20210314T080000
END:DAYLIGHT
BEGIN:STANDARD
TZOFFSETFROM:-0500
TZOFFSETTO:-0600
TZNAME:CST
DTSTART:20211107T070000
END:STANDARD
END:VTIMEZONE
BEGIN:VEVENT
DTSTART;TZID=America/Chicago:20200624T150000
DTEND;TZID=America/Chicago:20200624T153000
DTSTAMP:20260421T104501
CREATED:20200619T171017Z
LAST-MODIFIED:20200714T160520Z
UID:1450-1593010800-1593012600@www.yepyepyep.org
SUMMARY:Boyceville YEP Zoom
DESCRIPTION:Weekly Boyceville meeting to for students and advisors to catch up and see what YEP has planned. Please note that Zoom will require a password for all meetings starting in July. \nJoin Zoom Meeting \n\nhttps://arborplaceinc.zoom.us/j/96090437556?pwd=WjdkUmdJcVNwUy9LTFQ0L3lFOFlhZz09\n\nMeeting ID: 960 9043 7556\nPassword: 862322\n\nIf the above Zoom link is outdated\, email aschultz@arborplaceinc.org so we can update it and give you the correct information.
URL:https://www.yepyepyep.org/event/boyceville-yep-zoom/2020-06-24/
END:VEVENT
END:VCALENDAR