BEGIN:VCALENDAR
VERSION:2.0
PRODID:-//Youth Empowerment Program - ECPv6.15.20//NONSGML v1.0//EN
CALSCALE:GREGORIAN
METHOD:PUBLISH
X-WR-CALNAME:Youth Empowerment Program
X-ORIGINAL-URL:https://www.yepyepyep.org
X-WR-CALDESC:Events for Youth Empowerment Program
REFRESH-INTERVAL;VALUE=DURATION:PT1H
X-Robots-Tag:noindex
X-PUBLISHED-TTL:PT1H
BEGIN:VTIMEZONE
TZID:UTC
BEGIN:STANDARD
TZOFFSETFROM:+0000
TZOFFSETTO:+0000
TZNAME:UTC
DTSTART:20190101T000000
END:STANDARD
END:VTIMEZONE
BEGIN:VEVENT
DTSTART;VALUE=DATE:20200504
DTEND;VALUE=DATE:20200505
DTSTAMP:20260421T220636
CREATED:20200504T233000Z
LAST-MODIFIED:20201118T165353Z
UID:617-1588550400-1588636799@www.yepyepyep.org
SUMMARY:Movies\, Math\, and More Monday
DESCRIPTION:Visit our blog to see the newest posts: \nhttps://www.yepyepyep.org/blog/ \n 
URL:https://www.yepyepyep.org/event/monday-movies-math-and-more/2020-05-04/
END:VEVENT
END:VCALENDAR