BEGIN:VCALENDAR
VERSION:2.0
PRODID:-//Youth Empowerment Program - ECPv6.15.20//NONSGML v1.0//EN
CALSCALE:GREGORIAN
METHOD:PUBLISH
X-WR-CALNAME:Youth Empowerment Program
X-ORIGINAL-URL:https://www.yepyepyep.org
X-WR-CALDESC:Events for Youth Empowerment Program
REFRESH-INTERVAL;VALUE=DURATION:PT1H
X-Robots-Tag:noindex
X-PUBLISHED-TTL:PT1H
BEGIN:VTIMEZONE
TZID:UTC
BEGIN:STANDARD
TZOFFSETFROM:+0000
TZOFFSETTO:+0000
TZNAME:UTC
DTSTART:20190101T000000
END:STANDARD
END:VTIMEZONE
BEGIN:VEVENT
DTSTART;VALUE=DATE:20200507
DTEND;VALUE=DATE:20200508
DTSTAMP:20260421T165318
CREATED:20200504T233506Z
LAST-MODIFIED:20201216T165455Z
UID:633-1588809600-1588895999@www.yepyepyep.org
SUMMARY:Talk to Me Thursday
DESCRIPTION:  \n 
URL:https://www.yepyepyep.org/event/talk-to-us-thursday/2020-05-07/
END:VEVENT
END:VCALENDAR