BEGIN:VCALENDAR
VERSION:2.0
PRODID:-//Youth Empowerment Program - ECPv6.15.20//NONSGML v1.0//EN
CALSCALE:GREGORIAN
METHOD:PUBLISH
X-ORIGINAL-URL:https://www.yepyepyep.org
X-WR-CALDESC:Events for Youth Empowerment Program
REFRESH-INTERVAL;VALUE=DURATION:PT1H
X-Robots-Tag:noindex
X-PUBLISHED-TTL:PT1H
BEGIN:VTIMEZONE
TZID:UTC
BEGIN:STANDARD
TZOFFSETFROM:+0000
TZOFFSETTO:+0000
TZNAME:UTC
DTSTART:20190101T000000
END:STANDARD
END:VTIMEZONE
BEGIN:VEVENT
DTSTART;VALUE=DATE:20200506
DTEND;VALUE=DATE:20200507
DTSTAMP:20260421T183651
CREATED:20200504T233358Z
LAST-MODIFIED:20201118T165246Z
UID:628-1588723200-1588809599@www.yepyepyep.org
SUMMARY:Website Wednesday
DESCRIPTION:
URL:https://www.yepyepyep.org/event/website-wednesday/2020-05-06/
END:VEVENT
END:VCALENDAR